BEGIN:VCALENDAR
VERSION:2.0
PRODID:-//Teaching Together - ECPv5.14.0.4//NONSGML v1.0//EN
CALSCALE:GREGORIAN
METHOD:PUBLISH
X-WR-CALNAME:Teaching Together
X-ORIGINAL-URL:https://teachingtogether.info
X-WR-CALDESC:Events for Teaching Together
BEGIN:VTIMEZONE
TZID:Europe/Madrid
BEGIN:DAYLIGHT
TZOFFSETFROM:+0100
TZOFFSETTO:+0200
TZNAME:CEST
DTSTART:20180325T010000
END:DAYLIGHT
BEGIN:STANDARD
TZOFFSETFROM:+0200
TZOFFSETTO:+0100
TZNAME:CET
DTSTART:20181028T010000
END:STANDARD
END:VTIMEZONE
BEGIN:VEVENT
DTSTART;TZID=Europe/Madrid:20180302T100000
DTEND;TZID=Europe/Madrid:20180302T120000
DTSTAMP:20260420T110130
CREATED:20180210T075253Z
LAST-MODIFIED:20180210T075253Z
UID:1303-1519984800-1519992000@teachingtogether.info
SUMMARY:Benchmarking Performance in Interactive Communication and Engaging Students in Turn-taking Skills at B2 and C1 levels
DESCRIPTION:I’ll be at the Escuela Oficial here in Cantabria for the seminar on: \n  \nBenchmarking Performance in Interactive Communication and Engaging Students in Turn-taking Skills at B2 and C1 levels \nLooking forward to going back to the Escuela Oficial – always an interesting and engaged audience!
URL:https://teachingtogether.info/event/benchmarking-performance-interactive-communication-engaging-students-turn-taking-skills-b2-c1-levels/
LOCATION:Escuela Oficial de Idiomas\, Alcaldía de Sacas\, 13 (Behobia)\, Irún\, Guipúzcoa\, 20305\, Spain
CATEGORIES:Seminar
END:VEVENT
END:VCALENDAR