BEGIN:VCALENDAR
VERSION:2.0
PRODID:-//Teaching Together - ECPv5.14.0.4//NONSGML v1.0//EN
CALSCALE:GREGORIAN
METHOD:PUBLISH
X-WR-CALNAME:Teaching Together
X-ORIGINAL-URL:https://teachingtogether.info
X-WR-CALDESC:Events for Teaching Together
BEGIN:VTIMEZONE
TZID:Europe/Madrid
BEGIN:DAYLIGHT
TZOFFSETFROM:+0100
TZOFFSETTO:+0200
TZNAME:CEST
DTSTART:20190331T010000
END:DAYLIGHT
BEGIN:STANDARD
TZOFFSETFROM:+0200
TZOFFSETTO:+0100
TZNAME:CET
DTSTART:20191027T010000
END:STANDARD
END:VTIMEZONE
BEGIN:VEVENT
DTSTART;TZID=Europe/Madrid:20191129T170000
DTEND;TZID=Europe/Madrid:20191129T200000
DTSTAMP:20260420T205132
CREATED:20191030T175316Z
LAST-MODIFIED:20191126T193351Z
UID:23159-1575046800-1575057600@teachingtogether.info
SUMMARY:Cambridge Assessment English Seminar - La Rioja
DESCRIPTION:
URL:https://teachingtogether.info/event/cambridge-assessment-english-seminar-la-rioja/
CATEGORIES:Cambridge English Seminar
ATTACH;FMTTYPE=image/jpeg:https://teachingtogether.info/wp-content/uploads/2019/10/AR-CARTELITO-CAMBRIDGE-SEMINAR-2019-1.jpg
END:VEVENT
END:VCALENDAR