BEGIN:VCALENDAR
VERSION:2.0
PRODID:-//Teaching Together - ECPv5.14.0.4//NONSGML v1.0//EN
CALSCALE:GREGORIAN
METHOD:PUBLISH
X-WR-CALNAME:Teaching Together
X-ORIGINAL-URL:https://teachingtogether.info
X-WR-CALDESC:Events for Teaching Together
BEGIN:VTIMEZONE
TZID:Europe/Madrid
BEGIN:DAYLIGHT
TZOFFSETFROM:+0100
TZOFFSETTO:+0200
TZNAME:CEST
DTSTART:20190331T010000
END:DAYLIGHT
BEGIN:STANDARD
TZOFFSETFROM:+0200
TZOFFSETTO:+0100
TZNAME:CET
DTSTART:20191027T010000
END:STANDARD
END:VTIMEZONE
BEGIN:VEVENT
DTSTART;TZID=Europe/Madrid:20190215T094000
DTEND;TZID=Europe/Madrid:20190215T110000
DTSTAMP:20260421T134918
CREATED:20190207T160545Z
LAST-MODIFIED:20190207T161901Z
UID:11260-1550223600-1550228400@teachingtogether.info
SUMMARY:Teaching towards C2
DESCRIPTION:
URL:https://teachingtogether.info/event/teaching-towards-c2/
LOCATION:Academia Lacunza\, C/ Moraza 5\, \, San Sebastian\, 20006
CATEGORIES:Cambridge English Seminar,News
END:VEVENT
BEGIN:VEVENT
DTSTART;TZID=Europe/Madrid:20190215T111500
DTEND;TZID=Europe/Madrid:20190215T121500
DTSTAMP:20260421T134918
CREATED:20190207T161049Z
LAST-MODIFIED:20190207T161049Z
UID:11262-1550229300-1550232900@teachingtogether.info
SUMMARY:C1 Advanced - Listening
DESCRIPTION:
URL:https://teachingtogether.info/event/c1-advanced-listening/
LOCATION:Academia Lacunza\, C/ Moraza 5\, \, San Sebastian\, 20006
CATEGORIES:Cambridge English Seminar
END:VEVENT
BEGIN:VEVENT
DTSTART;TZID=Europe/Madrid:20190215T123000
DTEND;TZID=Europe/Madrid:20190215T140000
DTSTAMP:20260421T134918
CREATED:20190207T162046Z
LAST-MODIFIED:20190207T162110Z
UID:11264-1550233800-1550239200@teachingtogether.info
SUMMARY:Bridging the gap from B1 to B2 level school age learners (writing)
DESCRIPTION:
URL:https://teachingtogether.info/event/bridging-the-gap-from-b1-to-b2-level-school-age-learners-writing/
LOCATION:Academia Lacunza\, C/ Moraza 5\, \, San Sebastian\, 20006
CATEGORIES:Cambridge English Seminar
END:VEVENT
END:VCALENDAR