BEGIN:VCALENDAR
VERSION:2.0
PRODID:-//Teaching Together - ECPv5.14.0.4//NONSGML v1.0//EN
CALSCALE:GREGORIAN
METHOD:PUBLISH
X-WR-CALNAME:Teaching Together
X-ORIGINAL-URL:https://teachingtogether.info
X-WR-CALDESC:Events for Teaching Together
BEGIN:VTIMEZONE
TZID:Europe/Madrid
BEGIN:DAYLIGHT
TZOFFSETFROM:+0100
TZOFFSETTO:+0200
TZNAME:CEST
DTSTART:20180325T010000
END:DAYLIGHT
BEGIN:STANDARD
TZOFFSETFROM:+0200
TZOFFSETTO:+0100
TZNAME:CET
DTSTART:20181028T010000
END:STANDARD
END:VTIMEZONE
BEGIN:VEVENT
DTSTART;TZID=Europe/Madrid:20180303T100000
DTEND;TZID=Europe/Madrid:20180303T130000
DTSTAMP:20260422T064550
CREATED:20180210T071051Z
LAST-MODIFIED:20180210T071357Z
UID:1300-1520071200-1520082000@teachingtogether.info
SUMMARY:Preparing for the 2018 Cambridge Young Learners
DESCRIPTION:Looking forward to sharing tips and activities for 2018 Cambridge Young Learners with teachers (many of them great friends) here in Santander.
URL:https://teachingtogether.info/event/preparing-2018-cambridge-young-learners/
LOCATION:Colegio La Salle\, Santander\, Camino Alonso Vega 33\, Santander\, 39007\, Spain
CATEGORIES:Cambridge English Seminar
END:VEVENT
END:VCALENDAR