BEGIN:VCALENDAR
VERSION:2.0
PRODID:-//Teaching Together - ECPv5.14.0.4//NONSGML v1.0//EN
CALSCALE:GREGORIAN
METHOD:PUBLISH
X-WR-CALNAME:Teaching Together
X-ORIGINAL-URL:https://teachingtogether.info
X-WR-CALDESC:Events for Teaching Together
BEGIN:VTIMEZONE
TZID:Europe/Madrid
BEGIN:DAYLIGHT
TZOFFSETFROM:+0100
TZOFFSETTO:+0200
TZNAME:CEST
DTSTART:20170326T010000
END:DAYLIGHT
BEGIN:STANDARD
TZOFFSETFROM:+0200
TZOFFSETTO:+0100
TZNAME:CET
DTSTART:20171029T010000
END:STANDARD
END:VTIMEZONE
BEGIN:VEVENT
DTSTART;TZID=Europe/Madrid:20171028T100000
DTEND;TZID=Europe/Madrid:20171028T133000
DTSTAMP:20260422T143538
CREATED:20171012T073127Z
LAST-MODIFIED:20171012T073127Z
UID:1002-1509184800-1509197400@teachingtogether.info
SUMMARY:Cambridge English seminars in A Coruña -  2018 Young Learners and Bridging the Gap for Writing from Preliminary to First for Schools
DESCRIPTION:I love Galicia and A Coruña is a wonderful city\, so I’m looking forward to being there on Saturday\, 28th October to share activities and tips with teachers for the new and revised tasks in the Cambridge English: Young Learners Tests and for the writing tasks for First for Schools.
URL:https://teachingtogether.info/event/cambridge-english-seminars-coruna-2018-young-learners-bridging-gap-writing-preliminary-first-schools/
LOCATION:Hotel Attica 21\, C/ Enrique Mariñas 34\, A Coruña\, 15009\, Spain
CATEGORIES:Cambridge English Seminar
END:VEVENT
END:VCALENDAR