BEGIN:VCALENDAR
VERSION:2.0
PRODID:-//Teaching Together - ECPv5.14.0.4//NONSGML v1.0//EN
CALSCALE:GREGORIAN
METHOD:PUBLISH
X-WR-CALNAME:Teaching Together
X-ORIGINAL-URL:https://teachingtogether.info
X-WR-CALDESC:Events for Teaching Together
BEGIN:VTIMEZONE
TZID:Europe/Madrid
BEGIN:DAYLIGHT
TZOFFSETFROM:+0100
TZOFFSETTO:+0200
TZNAME:CEST
DTSTART:20200329T010000
END:DAYLIGHT
BEGIN:STANDARD
TZOFFSETFROM:+0200
TZOFFSETTO:+0100
TZNAME:CET
DTSTART:20201025T010000
END:STANDARD
END:VTIMEZONE
BEGIN:VEVENT
DTSTART;VALUE=DATE:20200125
DTEND;VALUE=DATE:20200126
DTSTAMP:20260423T124743
CREATED:20191127T152301Z
LAST-MODIFIED:20191127T152301Z
UID:24733-1579910400-1579996799@teachingtogether.info
SUMMARY:Seminars in Las Palmas de Gran Canaria
DESCRIPTION:Preparing students for the 2020 A2 Key and B1 Preliminary exams \nExams for Young Learners – Preparing students for Listening\, Writing and Speaking tasks
URL:https://teachingtogether.info/event/seminars-in-las-palmas-de-gran-canaria/
END:VEVENT
END:VCALENDAR