BEGIN:VCALENDAR
VERSION:2.0
PRODID:-//Teaching Together - ECPv5.14.0.4//NONSGML v1.0//EN
CALSCALE:GREGORIAN
METHOD:PUBLISH
X-WR-CALNAME:Teaching Together
X-ORIGINAL-URL:https://teachingtogether.info
X-WR-CALDESC:Events for Teaching Together
BEGIN:VTIMEZONE
TZID:Europe/Madrid
BEGIN:DAYLIGHT
TZOFFSETFROM:+0100
TZOFFSETTO:+0200
TZNAME:CEST
DTSTART:20170326T010000
END:DAYLIGHT
BEGIN:STANDARD
TZOFFSETFROM:+0200
TZOFFSETTO:+0100
TZNAME:CET
DTSTART:20171029T010000
END:STANDARD
END:VTIMEZONE
BEGIN:VEVENT
DTSTART;TZID=Europe/Madrid:20170126T100000
DTEND;TZID=Europe/Madrid:20170126T130000
DTSTAMP:20260425T210913
CREATED:20171012T081444Z
LAST-MODIFIED:20171012T081444Z
UID:1010-1485424800-1485435600@teachingtogether.info
SUMMARY:Planning and Teaching Short Exam Courses in Tolosa
DESCRIPTION:I really enjoyed preparing and giving this seminar in Tolosa. \nThere was a very big turnout for the session. \nRead more about it here: \nhttps://www.elduaien.com/es/cambridge-english-seminario
URL:https://teachingtogether.info/event/planning-teaching-short-exam-courses-tolosa/
LOCATION:Elduaien Academies\, Kondeko Aldapa 30\, Tolosa\, Guipúzcoa\, 20400\, Spain
END:VEVENT
END:VCALENDAR