BEGIN:VCALENDAR
VERSION:2.0
PRODID:-//Teaching Together - ECPv5.14.0.4//NONSGML v1.0//EN
CALSCALE:GREGORIAN
METHOD:PUBLISH
X-WR-CALNAME:Teaching Together
X-ORIGINAL-URL:https://teachingtogether.info
X-WR-CALDESC:Events for Teaching Together
BEGIN:VTIMEZONE
TZID:Europe/Madrid
BEGIN:DAYLIGHT
TZOFFSETFROM:+0100
TZOFFSETTO:+0200
TZNAME:CEST
DTSTART:20160327T010000
END:DAYLIGHT
BEGIN:STANDARD
TZOFFSETFROM:+0200
TZOFFSETTO:+0100
TZNAME:CET
DTSTART:20161030T010000
END:STANDARD
END:VTIMEZONE
BEGIN:VEVENT
DTSTART;TZID=Europe/Madrid:20161021T094500
DTEND;TZID=Europe/Madrid:20161021T111500
DTSTAMP:20260426T013203
CREATED:20161001T080646Z
LAST-MODIFIED:20161001T080755Z
UID:520-1477043100-1477048500@teachingtogether.info
SUMMARY:Writing at B2 level - Cambridge English seminar
DESCRIPTION:For my first Cambridge English seminar of this academic year\, I’ll be driving to San Sebastian (that beautiful city eastwards along the northern coast of Spain) to Academia Lacunza. \nFor the first seminar that day\, we’ll be pooling ideas\, tips and resources for B2 writing.  Developing writing skills is one of my favourite subjects\, so it’s a great one to kick off the year with! \n 
URL:https://teachingtogether.info/event/writing-b2-level-cambridge-english-seminar/
LOCATION:Academia Lacunza\, C/ Moraza 5\, \, San Sebastian\, 20006
END:VEVENT
BEGIN:VEVENT
DTSTART;TZID=Europe/Madrid:20161021T113000
DTEND;TZID=Europe/Madrid:20161021T130000
DTSTAMP:20260426T013203
CREATED:20161001T081518Z
LAST-MODIFIED:20161001T081518Z
UID:523-1477049400-1477054800@teachingtogether.info
SUMMARY:First for Schools Speaking - Cambridge English seminar
DESCRIPTION:After a 15 minute break\, I’ll be moving onto the subject of speaking\, again at B2 level but this time focussing on the Speaking Test in the First for Schools exam. \nMany of the teachers who come along to the first seminar (B2 writing) that morning show great stamina by staying on for the second session.  That’s always a good sign! \n 
URL:https://teachingtogether.info/event/first-schools-speaking-cambridge-english-seminar/
LOCATION:Academia Lacunza\, C/ Moraza 5\, \, San Sebastian\, 20006
END:VEVENT
END:VCALENDAR